BEGIN:VCALENDAR
VERSION:2.0
PRODID:-//pretix//events.transitionmovement.org//
BEGIN:VEVENT
UID:pretix-inner-gath-encue-2026-0@events.transitionmovement.org
DTSTART;VALUE=DATE:20260319
DTEND;VALUE=DATE:20260320
DESCRIPTION:Tickets: https://events.transitionmovement.org/inner/gath-encue
 -2026/\nOrganizer: Inner
DTSTAMP:20260422T171906Z
LOCATION:Online (Zoom)
SUMMARY:Seasonal Gatherings: Join a Year of Connection and Ceremony
END:VEVENT
END:VCALENDAR
