BEGIN:VCALENDAR
VERSION:2.0
PRODID:-//pretix//events.transitionmovement.org//
BEGIN:VEVENT
UID:pretix-inner-test1-0@events.transitionmovement.org
DTSTART:20231220T100000Z
DTEND:20231228T130000Z
DESCRIPTION:Tickets: https://events.transitionmovement.org/inner/test1/\nOr
 ganizer: Inner
DTSTAMP:20260422T185842Z
SUMMARY:Test event 1
END:VEVENT
END:VCALENDAR
